BEGIN:VCALENDAR
VERSION:2.0
PRODID:-//eventon.com NONSGML v1.0//EN
BEGIN:VEVENT
UID:69ea616321f58
DTSTAMP:20260423T181355
DTSTART:20250112T180000Z
DTEND:20250112T200000Z
TZID:America/Los_Angeles
LOCATION:Saint Simeon Serbian Orthodox Church 3950 S. Jones Blvd
SUMMARY:Divine Liturgy
DESCRIPTION: 10:00 am – 12:00 pm\nhttps://stsimeonlv.com/events/297/var/ri-168.l-L1
URL:https://stsimeonlv.com/events/297/var/ri-168.l-L1
END:VEVENT
END:VCALENDAR